BEGIN:VCALENDAR
VERSION:2.0
PRODID:-//DC Dancesport Academy - ECPv6.9.0//NONSGML v1.0//EN
CALSCALE:GREGORIAN
METHOD:PUBLISH
X-WR-CALNAME:DC Dancesport Academy
X-ORIGINAL-URL:https://dcda.nova.design
X-WR-CALDESC:Events for DC Dancesport Academy
REFRESH-INTERVAL;VALUE=DURATION:PT1H
X-Robots-Tag:noindex
X-PUBLISHED-TTL:PT1H
BEGIN:VTIMEZONE
TZID:America/New_York
BEGIN:DAYLIGHT
TZOFFSETFROM:-0500
TZOFFSETTO:-0400
TZNAME:EDT
DTSTART:20180311T070000
END:DAYLIGHT
BEGIN:STANDARD
TZOFFSETFROM:-0400
TZOFFSETTO:-0500
TZNAME:EST
DTSTART:20181104T060000
END:STANDARD
END:VTIMEZONE
BEGIN:VEVENT
DTSTART;TZID=America/New_York:20180728T153000
DTEND;TZID=America/New_York:20180728T173000
DTSTAMP:20260419T154117
CREATED:20180726T230957Z
LAST-MODIFIED:20180728T000700Z
UID:1017-1532791800-1532799000@dcda.nova.design
SUMMARY:July Open House
DESCRIPTION:Be Our Guest! Kids\, come and experience DC DanceSport Academy at our JULY SUMMER OPEN HOUSE event!\nDuring the open house you can enjoy ballet\, jazz\, and/or ballroom dance FREE CLASSES! \nJULY OPEN HOUSE\nSaturday\, July 28th / 3:30 – 5:30 pm\n3:30 pm Ballet 2 1/2 – 3 years old\n4:00 pm Ballroom Dance 3-4 years old\n4:30 pm Ballroom Dance 5-6 years old\n5:00 pm Ballroom Dance 7+ years old \nYou are welcome to join any classes you like as a gift from us. \nE-mail or call to book the classes you’d love to attend:\ndance@dcdancesportacademy.com\n(703) 385-3200 \nThe DCDA studio is located at 9703 Fairfax Blvd.\, Fairfax\, VA 22031.
URL:https://dcda.nova.design/event/july-kids-summer-open-house/
LOCATION:DC DanceSport Academy\, 9703 Fairfax Blvd.\, Fairfax\, VA\, 22031\, United States
CATEGORIES:DCDA Events
ATTACH;FMTTYPE=image/jpeg:https://dcda.nova.design/wp-content/uploads/2018/07/Kids_Open_House_July-1.jpg
ORGANIZER;CN="DC DanceSport Academy":MAILTO:dance@dcdancesportacademy.com
END:VEVENT
END:VCALENDAR