BEGIN:VCALENDAR
VERSION:2.0
PRODID:-//DC Dancesport Academy - ECPv6.9.0//NONSGML v1.0//EN
CALSCALE:GREGORIAN
METHOD:PUBLISH
X-ORIGINAL-URL:https://dcda.nova.design
X-WR-CALDESC:Events for DC Dancesport Academy
REFRESH-INTERVAL;VALUE=DURATION:PT1H
X-Robots-Tag:noindex
X-PUBLISHED-TTL:PT1H
BEGIN:VTIMEZONE
TZID:America/New_York
BEGIN:DAYLIGHT
TZOFFSETFROM:-0500
TZOFFSETTO:-0400
TZNAME:EDT
DTSTART:20180311T070000
END:DAYLIGHT
BEGIN:STANDARD
TZOFFSETFROM:-0400
TZOFFSETTO:-0500
TZNAME:EST
DTSTART:20181104T060000
END:STANDARD
END:VTIMEZONE
BEGIN:VEVENT
DTSTART;TZID=America/New_York:20180812T110000
DTEND;TZID=America/New_York:20180812T150000
DTSTAMP:20260420T215252
CREATED:20180727T010109Z
LAST-MODIFIED:20180727T013234Z
UID:1031-1534071600-1534086000@dcda.nova.design
SUMMARY:Elite Int’l Latin Workshops w/ Nadia Eftedal
DESCRIPTION:SAVE the DATE\nAugust 12th\, 2018 at DC DanceSport Academy\nElite Int’l Latin Workshops with Nadia Eftedal
URL:https://dcda.nova.design/event/elite-intl-latin-workshops-w-nadia-eftedal/
LOCATION:DC DanceSport Academy\, 9703 Fairfax Blvd.\, Fairfax\, VA\, 22031\, United States
CATEGORIES:DCDA Events
ATTACH;FMTTYPE=image/jpeg:https://dcda.nova.design/wp-content/uploads/2018/07/Nadia_Eftedal_Latin_Workshops.jpg
ORGANIZER;CN="DC DanceSport Academy":MAILTO:dance@dcdancesportacademy.com
END:VEVENT
END:VCALENDAR