BEGIN:VCALENDAR
VERSION:2.0
PRODID:-//DC Dancesport Academy - ECPv6.9.0//NONSGML v1.0//EN
CALSCALE:GREGORIAN
METHOD:PUBLISH
X-WR-CALNAME:DC Dancesport Academy
X-ORIGINAL-URL:https://dcda.nova.design
X-WR-CALDESC:Events for DC Dancesport Academy
REFRESH-INTERVAL;VALUE=DURATION:PT1H
X-Robots-Tag:noindex
X-PUBLISHED-TTL:PT1H
BEGIN:VTIMEZONE
TZID:America/New_York
BEGIN:DAYLIGHT
TZOFFSETFROM:-0500
TZOFFSETTO:-0400
TZNAME:EDT
DTSTART:20180311T070000
END:DAYLIGHT
BEGIN:STANDARD
TZOFFSETFROM:-0400
TZOFFSETTO:-0500
TZNAME:EST
DTSTART:20181104T060000
END:STANDARD
END:VTIMEZONE
BEGIN:VEVENT
DTSTART;TZID=America/New_York:20180722T103000
DTEND;TZID=America/New_York:20180722T123000
DTSTAMP:20260421T001212
CREATED:20180719T175251Z
LAST-MODIFIED:20180727T013358Z
UID:428-1532255400-1532262600@dcda.nova.design
SUMMARY:Mini Pro Latin Camp
DESCRIPTION:Competitors\, you asked\, and we listened! To help you make a real difference in your competitive performance\, we are adding a brand new session with Beata to our Sunday schedule. As one of the most decorated and accomplished competitors herself\, Beata has invaluable knowledge to share. Get ready to work hard and excel fast! \nBeata is one of the top female dancers in the DanceSport industry. Beata holds the title of South African Latin Amateur & Professional\nChampion of 10 years. \nRegistration for “Mini Pro Latin Camp” is available in studio ONLY.
URL:https://dcda.nova.design/event/mini-pro-latin-camp/
LOCATION:DC DanceSport Academy\, 9703 Fairfax Blvd.\, Fairfax\, VA\, 22031\, United States
CATEGORIES:DCDA Events
ATTACH;FMTTYPE=image/jpeg:https://dcda.nova.design/wp-content/uploads/2018/07/Beata_MiniProLatinCamp_EventCover.jpg
ORGANIZER;CN="DC DanceSport Academy":MAILTO:dance@dcdancesportacademy.com
END:VEVENT
BEGIN:VEVENT
DTSTART;TZID=America/New_York:20180722T123000
DTEND;TZID=America/New_York:20180722T160000
DTSTAMP:20260421T001212
CREATED:20180719T175833Z
LAST-MODIFIED:20180727T013332Z
UID:434-1532262600-1532275200@dcda.nova.design
SUMMARY:Elite Int’l Latin Workshops with Beata Onefater
DESCRIPTION:Elite Workshops Schedule\nBeata is one of the top female dancers in the DanceSport industry. Beata holds the title of South African Latin Amateur & Professional Champion of 10 years. \nElite Workshops\nSchedule \n12:30 pm\nPaso Doble:\nThe Story Teller In You: Movement\, Technique\, Expression \n1:20 pm\nSamba:\nSouth Africa’s Influence On My Samba \n2:10 pm\nRumba:\nUnderstanding Rumba and What To Feel In Your Dance \n3:00 pm\nCha Cha:\nThe First Impression That Will Last \nTuition:\nOne workshop $45\nElite Workshops $160/DCDA Students with Membership $150\nAll Day $235/DCDA Students with Membership $210
URL:https://dcda.nova.design/event/elite-intl-latin-workshops-with-beata-onefater/
LOCATION:DC DanceSport Academy\, 9703 Fairfax Blvd.\, Fairfax\, VA\, 22031\, United States
CATEGORIES:DCDA Events
ATTACH;FMTTYPE=image/jpeg:https://dcda.nova.design/wp-content/uploads/2018/07/Beata_Onefater_Workshops.jpg
ORGANIZER;CN="DC DanceSport Academy":MAILTO:dance@dcdancesportacademy.com
END:VEVENT
END:VCALENDAR