BEGIN:VCALENDAR
VERSION:2.0
PRODID:-//DC Dancesport Academy - ECPv6.9.0//NONSGML v1.0//EN
CALSCALE:GREGORIAN
METHOD:PUBLISH
X-ORIGINAL-URL:https://dcda.nova.design
X-WR-CALDESC:Events for DC Dancesport Academy
REFRESH-INTERVAL;VALUE=DURATION:PT1H
X-Robots-Tag:noindex
X-PUBLISHED-TTL:PT1H
BEGIN:VTIMEZONE
TZID:America/New_York
BEGIN:DAYLIGHT
TZOFFSETFROM:-0500
TZOFFSETTO:-0400
TZNAME:EDT
DTSTART:20180311T070000
END:DAYLIGHT
BEGIN:STANDARD
TZOFFSETFROM:-0400
TZOFFSETTO:-0500
TZNAME:EST
DTSTART:20181104T060000
END:STANDARD
END:VTIMEZONE
BEGIN:VEVENT
DTSTART;TZID=America/New_York:20180922T180000
DTEND;TZID=America/New_York:20180922T210000
DTSTAMP:20260423T193849
CREATED:20180727T011200Z
LAST-MODIFIED:20180727T013218Z
UID:1034-1537639200-1537650000@dcda.nova.design
SUMMARY:DCDA Fall Showcase
DESCRIPTION:DC DanceSport Academy Fall Showcase\nSaturday\, September 22nd\, 2018 \nWhat are you dancing?\nWho are you dancing with?\nWhat song did you choose?\nWhat are you wearing?!\nDid you brush your shoes? \nThese important questions and MORE need answers! Get crackin’ and make your plan happen. Visualize a clear plan and take the steps to get yourself there…the rest is easy! It’s just dancing!
URL:https://dcda.nova.design/event/dcda-fall-showcase/
LOCATION:DC DanceSport Academy\, 9703 Fairfax Blvd.\, Fairfax\, VA\, 22031\, United States
CATEGORIES:DCDA Events
ATTACH;FMTTYPE=image/jpeg:https://dcda.nova.design/wp-content/uploads/2018/07/DCDA_Fall_Showcase.jpg
ORGANIZER;CN="DC DanceSport Academy":MAILTO:dance@dcdancesportacademy.com
END:VEVENT
END:VCALENDAR